Package: dagLogo Version: 1.45.1 Command: /home/biocbuild/R/R/bin/R CMD check --install=check:dagLogo.install-out.txt --library=/home/biocbuild/R/R/site-library --no-vignettes --timings dagLogo_1.45.1.tar.gz StartedAt: 2025-01-28 09:43:18 -0000 (Tue, 28 Jan 2025) EndedAt: 2025-01-28 09:51:20 -0000 (Tue, 28 Jan 2025) EllapsedTime: 482.4 seconds RetCode: 0 Status: WARNINGS CheckDir: dagLogo.Rcheck Warnings: 5