Package: dagLogo Version: 1.45.1 Command: rm -rf dagLogo.buildbin-libdir && mkdir dagLogo.buildbin-libdir && /Users/biocbuild/BBS/utils/build-universal.sh dagLogo_1.45.1.tar.gz /Library/Frameworks/R.framework/Resources/bin/R dagLogo.buildbin-libdir StartedAt: 2025-02-04 00:30:09 -0500 (Tue, 04 Feb 2025) EndedAt: 2025-02-04 00:31:13 -0500 (Tue, 04 Feb 2025) EllapsedTime: 63.8 seconds RetCode: 0 Status: OK PackageFile: dagLogo_1.45.1.tgz PackageFileSize: 3.489 MiB