Package: dagLogo Version: 1.45.1 Command: /Library/Frameworks/R.framework/Resources/bin/R CMD check --install=check:dagLogo.install-out.txt --library=/Library/Frameworks/R.framework/Resources/library --no-vignettes --timings dagLogo_1.45.1.tar.gz StartedAt: 2025-02-03 19:57:25 -0500 (Mon, 03 Feb 2025) EndedAt: 2025-02-03 20:04:12 -0500 (Mon, 03 Feb 2025) EllapsedTime: 407.2 seconds RetCode: 0 Status: OK CheckDir: dagLogo.Rcheck Warnings: 0