Package: dagLogo Version: 1.45.1 Command: /home/biocbuild/bbs-3.21-bioc/R/bin/R CMD build --keep-empty-dirs --no-resave-data dagLogo StartedAt: 2025-02-03 17:01:46 -0500 (Mon, 03 Feb 2025) EndedAt: 2025-02-03 17:03:26 -0500 (Mon, 03 Feb 2025) EllapsedTime: 100.1 seconds RetCode: 0 Status: OK PackageFile: dagLogo_1.45.1.tar.gz PackageFileSize: 2.656 MiB