Package: dagLogo Version: 1.45.1 Command: chmod a+r dagLogo -R && E:\biocbuild\bbs-3.21-bioc\R\bin\R.exe CMD build --keep-empty-dirs --no-resave-data dagLogo StartedAt: 2025-02-03 18:23:01 -0500 (Mon, 03 Feb 2025) EndedAt: 2025-02-03 18:25:09 -0500 (Mon, 03 Feb 2025) EllapsedTime: 128.2 seconds RetCode: 0 Status: OK PackageFile: dagLogo_1.45.1.tar.gz PackageFileSize: 2.487 MiB