Package: dagLogo Version: 1.45.1 Command: E:\biocbuild\bbs-3.21-bioc\R\bin\R.exe CMD check --no-multiarch --install=check:dagLogo.install-out.txt --library=E:\biocbuild\bbs-3.21-bioc\R\library --no-vignettes --timings dagLogo_1.45.1.tar.gz StartedAt: 2025-02-10 00:10:59 -0500 (Mon, 10 Feb 2025) EndedAt: 2025-02-10 00:18:17 -0500 (Mon, 10 Feb 2025) EllapsedTime: 438.0 seconds RetCode: 0 Status: OK CheckDir: dagLogo.Rcheck Warnings: 0