Package: dagLogo Version: 1.45.1 Command: E:\biocbuild\bbs-3.21-bioc\R\bin\R.exe CMD INSTALL dagLogo StartedAt: 2025-02-03 16:52:08 -0500 (Mon, 03 Feb 2025) EndedAt: 2025-02-03 16:53:12 -0500 (Mon, 03 Feb 2025) EllapsedTime: 64.3 seconds RetCode: 0 Status: OK