Package: dcGSA Version: 1.35.0 Command: rm -rf dcGSA.buildbin-libdir && mkdir dcGSA.buildbin-libdir && /Users/biocbuild/BBS/utils/build-universal.sh dcGSA_1.35.0.tar.gz /Library/Frameworks/R.framework/Resources/bin/R dcGSA.buildbin-libdir StartedAt: 2025-02-09 22:11:33 -0500 (Sun, 09 Feb 2025) EndedAt: 2025-02-09 22:11:36 -0500 (Sun, 09 Feb 2025) EllapsedTime: 3.0 seconds RetCode: 0 Status: OK PackageFile: dcGSA_1.35.0.tgz PackageFileSize: 51.73 KiB