Package: dcGSA Version: 1.35.0 Command: /Library/Frameworks/R.framework/Resources/bin/R CMD build --keep-empty-dirs --no-resave-data dcGSA StartedAt: 2025-02-09 16:03:59 -0500 (Sun, 09 Feb 2025) EndedAt: 2025-02-09 16:04:00 -0500 (Sun, 09 Feb 2025) EllapsedTime: 1.0 seconds RetCode: 0 Status: OK PackageFile: dcGSA_1.35.0.tar.gz PackageFileSize: 37.43 KiB