Package: dcGSA Version: 1.35.0 Command: /home/biocbuild/R/R/bin/R CMD check --install=check:dcGSA.install-out.txt --library=/home/biocbuild/R/R/site-library --no-vignettes --timings dcGSA_1.35.0.tar.gz StartedAt: 2025-01-28 09:45:53 -0000 (Tue, 28 Jan 2025) EndedAt: 2025-01-28 09:46:39 -0000 (Tue, 28 Jan 2025) EllapsedTime: 46.1 seconds RetCode: 0 Status: WARNINGS CheckDir: dcGSA.Rcheck Warnings: 1