Package: dcGSA Version: 1.35.0 Command: rm -rf dcGSA.buildbin-libdir && mkdir dcGSA.buildbin-libdir && /Users/biocbuild/BBS/utils/build-universal.sh dcGSA_1.35.0.tar.gz /Library/Frameworks/R.framework/Resources/bin/R dcGSA.buildbin-libdir StartedAt: 2025-02-10 00:49:38 -0500 (Mon, 10 Feb 2025) EndedAt: 2025-02-10 00:49:48 -0500 (Mon, 10 Feb 2025) EllapsedTime: 9.2 seconds RetCode: 0 Status: OK PackageFile: dcGSA_1.35.0.tgz PackageFileSize: 51.42 KiB