Package: dcGSA Version: 1.35.0 Command: /home/biocbuild/bbs-3.21-bioc/R/bin/R CMD check --install=check:dcGSA.install-out.txt --library=/home/biocbuild/bbs-3.21-bioc/R/site-library --timings dcGSA_1.35.0.tar.gz StartedAt: 2025-02-09 21:29:43 -0500 (Sun, 09 Feb 2025) EndedAt: 2025-02-09 21:30:19 -0500 (Sun, 09 Feb 2025) EllapsedTime: 36.0 seconds RetCode: 0 Status: WARNINGS CheckDir: dcGSA.Rcheck Warnings: 1