Package: dcGSA Version: 1.35.0 Command: rm -rf dcGSA.buildbin-libdir && mkdir dcGSA.buildbin-libdir && E:\biocbuild\bbs-3.21-bioc\R\bin\R.exe CMD INSTALL --build --library=dcGSA.buildbin-libdir dcGSA_1.35.0.tar.gz StartedAt: 2025-02-13 07:45:31 -0500 (Thu, 13 Feb 2025) EndedAt: 2025-02-13 07:45:43 -0500 (Thu, 13 Feb 2025) EllapsedTime: 11.8 seconds RetCode: 0 Status: OK PackageFile: dcGSA_1.35.0.zip PackageFileSize: 54.74 KiB