Package: dcGSA Version: 1.35.0 Command: chmod a+r dcGSA -R && E:\biocbuild\bbs-3.21-bioc\R\bin\R.exe CMD build --keep-empty-dirs --no-resave-data dcGSA StartedAt: 2025-02-09 18:12:00 -0500 (Sun, 09 Feb 2025) EndedAt: 2025-02-09 18:12:02 -0500 (Sun, 09 Feb 2025) EllapsedTime: 1.7 seconds RetCode: 0 Status: OK PackageFile: dcGSA_1.35.0.tar.gz PackageFileSize: 37.43 KiB