Package: dcGSA Version: 1.35.0 Command: E:\biocbuild\bbs-3.21-bioc\R\bin\R.exe CMD check --no-multiarch --install=check:dcGSA.install-out.txt --library=E:\biocbuild\bbs-3.21-bioc\R\library --no-vignettes --timings dcGSA_1.35.0.tar.gz StartedAt: 2025-02-10 00:13:15 -0500 (Mon, 10 Feb 2025) EndedAt: 2025-02-10 00:14:03 -0500 (Mon, 10 Feb 2025) EllapsedTime: 48.3 seconds RetCode: 0 Status: WARNINGS CheckDir: dcGSA.Rcheck Warnings: 1