Package: dcanr Version: 1.23.0 Command: /Library/Frameworks/R.framework/Resources/bin/R CMD build --keep-empty-dirs --no-resave-data dcanr StartedAt: 2025-02-12 16:25:54 -0500 (Wed, 12 Feb 2025) EndedAt: 2025-02-12 16:26:39 -0500 (Wed, 12 Feb 2025) EllapsedTime: 45.7 seconds RetCode: 0 Status: OK PackageFile: dcanr_1.23.0.tar.gz PackageFileSize: 1.743 MiB