Package: dcanr Version: 1.23.0 Command: E:\biocbuild\bbs-3.21-bioc\R\bin\R.exe CMD check --no-multiarch --install=check:dcanr.install-out.txt --library=E:\biocbuild\bbs-3.21-bioc\R\library --no-vignettes --timings dcanr_1.23.0.tar.gz StartedAt: 2025-02-10 00:12:56 -0500 (Mon, 10 Feb 2025) EndedAt: 2025-02-10 00:14:15 -0500 (Mon, 10 Feb 2025) EllapsedTime: 79.4 seconds RetCode: 0 Status: OK CheckDir: dcanr.Rcheck Warnings: 0