Package: dce Version: 1.15.1 Maintainer: Kim Philipp Jablonski MaintainerEmail: kim.philipp.jablonski at gmail.com git_url: https://git.bioconductor.org/packages/dce git_branch: devel git_last_commit: 0c098ac git_last_commit_date: 2024-12-17 10:47:08 -0500 (Tue, 17 Dec 2024)