Package: dce Version: 1.15.1 Command: /home/biocbuild/bbs-3.21-bioc/R/bin/R CMD build --keep-empty-dirs --no-resave-data dce StartedAt: 2025-02-09 16:54:00 -0500 (Sun, 09 Feb 2025) EndedAt: 2025-02-09 16:56:04 -0500 (Sun, 09 Feb 2025) EllapsedTime: 124.5 seconds RetCode: 1 Status: ERROR PackageFile: None PackageFileSize: NA