Package: dce Version: 1.15.1 Command: E:\biocbuild\bbs-3.21-bioc\R\bin\R.exe CMD INSTALL dce StartedAt: 2025-02-09 16:05:19 -0500 (Sun, 09 Feb 2025) EndedAt: 2025-02-09 16:06:41 -0500 (Sun, 09 Feb 2025) EllapsedTime: 82.4 seconds RetCode: 0 Status: OK