Package: ddCt Version: 1.63.0 Command: /home/biocbuild/bbs-3.21-bioc/R/bin/R CMD build --keep-empty-dirs --no-resave-data ddCt StartedAt: 2025-02-12 16:51:06 -0500 (Wed, 12 Feb 2025) EndedAt: 2025-02-12 16:51:21 -0500 (Wed, 12 Feb 2025) EllapsedTime: 15.0 seconds RetCode: 0 Status: OK PackageFile: ddCt_1.63.0.tar.gz PackageFileSize: 783.6 KiB