Package: ddCt Version: 1.63.0 Command: E:\biocbuild\bbs-3.21-bioc\R\bin\R.exe CMD INSTALL ddCt StartedAt: 2025-02-09 15:28:13 -0500 (Sun, 09 Feb 2025) EndedAt: 2025-02-09 15:28:49 -0500 (Sun, 09 Feb 2025) EllapsedTime: 36.1 seconds RetCode: 0 Status: OK