Package: debCAM Version: 1.25.0 Command: /Library/Frameworks/R.framework/Resources/bin/R CMD check --install=check:debCAM.install-out.txt --library=/Library/Frameworks/R.framework/Resources/library --no-vignettes --timings debCAM_1.25.0.tar.gz StartedAt: 2025-02-04 18:52:46 -0500 (Tue, 04 Feb 2025) EndedAt: 2025-02-04 18:54:05 -0500 (Tue, 04 Feb 2025) EllapsedTime: 78.9 seconds RetCode: 0 Status: OK CheckDir: debCAM.Rcheck Warnings: 0