Package: debCAM Version: 1.25.0 Command: /home/biocbuild/R/R/bin/R CMD build --keep-empty-dirs --no-resave-data debCAM StartedAt: 2025-01-28 22:18:11 -0000 (Tue, 28 Jan 2025) EndedAt: 2025-01-28 22:25:30 -0000 (Tue, 28 Jan 2025) EllapsedTime: 438.1 seconds RetCode: 1 Status: ERROR PackageFile: None PackageFileSize: NA