Package: debCAM Version: 1.25.0 Command: rm -rf debCAM.buildbin-libdir && mkdir debCAM.buildbin-libdir && /Users/biocbuild/BBS/utils/build-universal.sh debCAM_1.25.0.tar.gz /Library/Frameworks/R.framework/Resources/bin/R debCAM.buildbin-libdir StartedAt: 2025-02-05 00:36:09 -0500 (Wed, 05 Feb 2025) EndedAt: 2025-02-05 00:36:25 -0500 (Wed, 05 Feb 2025) EllapsedTime: 16.2 seconds RetCode: 0 Status: OK PackageFile: debCAM_1.25.0.tgz PackageFileSize: 3.16 MiB