Package: debCAM Version: 1.25.0 Command: /home/biocbuild/bbs-3.21-bioc/R/bin/R CMD check --install=check:debCAM.install-out.txt --library=/home/biocbuild/bbs-3.21-bioc/R/site-library --timings debCAM_1.25.0.tar.gz StartedAt: 2025-02-09 21:30:56 -0500 (Sun, 09 Feb 2025) EndedAt: 2025-02-09 21:39:53 -0500 (Sun, 09 Feb 2025) EllapsedTime: 536.6 seconds RetCode: 0 Status: OK CheckDir: debCAM.Rcheck Warnings: 0