Package: debCAM Version: 1.25.0 Command: chmod a+r debCAM -R && E:\biocbuild\bbs-3.21-bioc\R\bin\R.exe CMD build --keep-empty-dirs --no-resave-data debCAM StartedAt: 2025-02-09 18:12:33 -0500 (Sun, 09 Feb 2025) EndedAt: 2025-02-09 18:20:25 -0500 (Sun, 09 Feb 2025) EllapsedTime: 472.3 seconds RetCode: 0 Status: OK PackageFile: debCAM_1.25.0.tar.gz PackageFileSize: 3.398 MiB