Package: debCAM Version: 1.25.0 Command: E:\biocbuild\bbs-3.21-bioc\R\bin\R.exe CMD INSTALL debCAM StartedAt: 2025-02-09 16:11:55 -0500 (Sun, 09 Feb 2025) EndedAt: 2025-02-09 16:12:15 -0500 (Sun, 09 Feb 2025) EllapsedTime: 19.6 seconds RetCode: 0 Status: OK