Package: debrowser Version: 1.35.0 Maintainer: Alper Kucukural MaintainerEmail: alper.kucukural at umassmed.edu git_url: https://git.bioconductor.org/packages/debrowser git_branch: devel git_last_commit: d896173 git_last_commit_date: 2024-10-29 10:08:44 -0500 (Tue, 29 Oct 2024)