Package: debrowser Version: 1.35.0 Command: /Library/Frameworks/R.framework/Resources/bin/R CMD check --install=check:debrowser.install-out.txt --library=/Library/Frameworks/R.framework/Resources/library --no-vignettes --timings debrowser_1.35.0.tar.gz StartedAt: 2025-02-09 18:51:44 -0500 (Sun, 09 Feb 2025) EndedAt: 2025-02-09 18:54:13 -0500 (Sun, 09 Feb 2025) EllapsedTime: 148.7 seconds RetCode: 0 Status: OK CheckDir: debrowser.Rcheck Warnings: 0