Package: debrowser Version: 1.35.0 Command: /Library/Frameworks/R.framework/Resources/bin/R CMD INSTALL debrowser StartedAt: 2025-02-09 15:24:30 -0500 (Sun, 09 Feb 2025) EndedAt: 2025-02-09 15:24:48 -0500 (Sun, 09 Feb 2025) EllapsedTime: 17.7 seconds RetCode: 0 Status: OK