Package: debrowser Version: 1.35.0 Command: chmod a+r debrowser -R && E:\biocbuild\bbs-3.21-bioc\R\bin\R.exe CMD build --keep-empty-dirs --no-resave-data debrowser StartedAt: 2025-02-09 18:12:37 -0500 (Sun, 09 Feb 2025) EndedAt: 2025-02-09 18:14:47 -0500 (Sun, 09 Feb 2025) EllapsedTime: 129.9 seconds RetCode: 0 Status: OK PackageFile: debrowser_1.35.0.tar.gz PackageFileSize: 18.22 MiB