Package: decompTumor2Sig Version: 2.23.0 Maintainer: Rosario M. Piro MaintainerEmail: rmpiro at gmail.com git_url: https://git.bioconductor.org/packages/decompTumor2Sig git_branch: devel git_last_commit: 7907da8 git_last_commit_date: 2024-10-29 10:33:29 -0500 (Tue, 29 Oct 2024)