Package: decompTumor2Sig Version: 2.23.0 Command: /Library/Frameworks/R.framework/Resources/bin/R CMD INSTALL decompTumor2Sig StartedAt: 2025-02-05 15:11:19 -0500 (Wed, 05 Feb 2025) EndedAt: 2025-02-05 15:11:37 -0500 (Wed, 05 Feb 2025) EllapsedTime: 17.8 seconds RetCode: 0 Status: OK