Package: decompTumor2Sig Version: 2.23.0 Command: /home/biocbuild/R/R/bin/R CMD build --keep-empty-dirs --no-resave-data decompTumor2Sig StartedAt: 2025-01-28 22:18:33 -0000 (Tue, 28 Jan 2025) EndedAt: 2025-01-28 22:25:06 -0000 (Tue, 28 Jan 2025) EllapsedTime: 392.1 seconds RetCode: 0 Status: OK PackageFile: decompTumor2Sig_2.23.0.tar.gz PackageFileSize: 2.456 MiB