Package: decompTumor2Sig Version: 2.23.0 Command: /home/biocbuild/R/R/bin/R CMD INSTALL decompTumor2Sig StartedAt: 2025-01-29 19:57:08 -0000 (Wed, 29 Jan 2025) EndedAt: 2025-01-29 19:58:07 -0000 (Wed, 29 Jan 2025) EllapsedTime: 59.4 seconds RetCode: 0 Status: OK