Package: decompTumor2Sig Version: 2.23.0 Command: rm -rf decompTumor2Sig.buildbin-libdir && mkdir decompTumor2Sig.buildbin-libdir && /Users/biocbuild/BBS/utils/build-universal.sh decompTumor2Sig_2.23.0.tar.gz /Library/Frameworks/R.framework/Resources/bin/R decompTumor2Sig.buildbin-libdir StartedAt: 2025-02-06 00:26:39 -0500 (Thu, 06 Feb 2025) EndedAt: 2025-02-06 00:27:37 -0500 (Thu, 06 Feb 2025) EllapsedTime: 58.7 seconds RetCode: 0 Status: OK PackageFile: decompTumor2Sig_2.23.0.tgz PackageFileSize: 2.762 MiB