Package: decompTumor2Sig Version: 2.23.0 Command: /Library/Frameworks/R.framework/Resources/bin/R CMD INSTALL decompTumor2Sig StartedAt: 2025-02-05 15:21:17 -0500 (Wed, 05 Feb 2025) EndedAt: 2025-02-05 15:22:12 -0500 (Wed, 05 Feb 2025) EllapsedTime: 55.7 seconds RetCode: 0 Status: OK