Package: decompTumor2Sig Version: 2.23.0 Command: /home/biocbuild/bbs-3.21-bioc/R/bin/R CMD build --keep-empty-dirs --no-resave-data decompTumor2Sig StartedAt: 2025-02-05 16:54:38 -0500 (Wed, 05 Feb 2025) EndedAt: 2025-02-05 16:59:01 -0500 (Wed, 05 Feb 2025) EllapsedTime: 263.4 seconds RetCode: 0 Status: OK PackageFile: decompTumor2Sig_2.23.0.tar.gz PackageFileSize: 2.757 MiB