Package: decompTumor2Sig Version: 2.23.0 Command: /home/biocbuild/bbs-3.21-bioc/R/bin/R CMD check --install=check:decompTumor2Sig.install-out.txt --library=/home/biocbuild/bbs-3.21-bioc/R/site-library --timings decompTumor2Sig_2.23.0.tar.gz StartedAt: 2025-02-05 21:32:55 -0500 (Wed, 05 Feb 2025) EndedAt: 2025-02-05 21:43:07 -0500 (Wed, 05 Feb 2025) EllapsedTime: 611.8 seconds RetCode: 0 Status: OK CheckDir: decompTumor2Sig.Rcheck Warnings: 0