Package: decompTumor2Sig Version: 2.23.0 Command: /home/biocbuild/bbs-3.21-bioc/R/bin/R CMD INSTALL decompTumor2Sig StartedAt: 2025-02-05 15:57:03 -0500 (Wed, 05 Feb 2025) EndedAt: 2025-02-05 15:57:45 -0500 (Wed, 05 Feb 2025) EllapsedTime: 41.6 seconds RetCode: 0 Status: OK