Package: decompTumor2Sig Version: 2.23.0 Command: rm -rf decompTumor2Sig.buildbin-libdir && mkdir decompTumor2Sig.buildbin-libdir && E:\biocbuild\bbs-3.21-bioc\R\bin\R.exe CMD INSTALL --build --library=decompTumor2Sig.buildbin-libdir decompTumor2Sig_2.23.0.tar.gz StartedAt: 2025-02-06 07:51:58 -0500 (Thu, 06 Feb 2025) EndedAt: 2025-02-06 07:54:57 -0500 (Thu, 06 Feb 2025) EllapsedTime: 179.4 seconds RetCode: 0 Status: OK PackageFile: decompTumor2Sig_2.23.0.zip PackageFileSize: 2.436 MiB