Package: decompTumor2Sig Version: 2.23.0 Command: chmod a+r decompTumor2Sig -R && E:\biocbuild\bbs-3.21-bioc\R\bin\R.exe CMD build --keep-empty-dirs --no-resave-data decompTumor2Sig StartedAt: 2025-02-05 18:17:42 -0500 (Wed, 05 Feb 2025) EndedAt: 2025-02-05 18:25:39 -0500 (Wed, 05 Feb 2025) EllapsedTime: 476.2 seconds RetCode: 0 Status: OK PackageFile: decompTumor2Sig_2.23.0.tar.gz PackageFileSize: 2.387 MiB