Package: decompTumor2Sig Version: 2.23.0 Command: E:\biocbuild\bbs-3.21-bioc\R\bin\R.exe CMD check --no-multiarch --install=check:decompTumor2Sig.install-out.txt --library=E:\biocbuild\bbs-3.21-bioc\R\library --no-vignettes --timings decompTumor2Sig_2.23.0.tar.gz StartedAt: 2025-02-06 00:45:12 -0500 (Thu, 06 Feb 2025) EndedAt: 2025-02-06 00:52:53 -0500 (Thu, 06 Feb 2025) EllapsedTime: 460.9 seconds RetCode: 0 Status: OK CheckDir: decompTumor2Sig.Rcheck Warnings: 0