Package: decompTumor2Sig Version: 2.23.0 Command: E:\biocbuild\bbs-3.21-bioc\R\bin\R.exe CMD INSTALL decompTumor2Sig StartedAt: 2025-02-05 16:15:44 -0500 (Wed, 05 Feb 2025) EndedAt: 2025-02-05 16:18:35 -0500 (Wed, 05 Feb 2025) EllapsedTime: 171.3 seconds RetCode: 0 Status: OK