Package: decontX Version: 1.5.0 Command: /Library/Frameworks/R.framework/Resources/bin/R CMD build --keep-empty-dirs --no-resave-data decontX StartedAt: 2025-02-09 16:04:31 -0500 (Sun, 09 Feb 2025) EndedAt: 2025-02-09 16:07:25 -0500 (Sun, 09 Feb 2025) EllapsedTime: 173.9 seconds RetCode: 0 Status: OK PackageFile: decontX_1.5.0.tar.gz PackageFileSize: 1.992 MiB