Package: decontX Version: 1.5.0 Command: rm -rf decontX.buildbin-libdir && mkdir decontX.buildbin-libdir && E:\biocbuild\bbs-3.21-bioc\R\bin\R.exe CMD INSTALL --build --library=decontX.buildbin-libdir decontX_1.5.0.tar.gz StartedAt: 2025-02-13 07:46:08 -0500 (Thu, 13 Feb 2025) EndedAt: 2025-02-13 07:49:03 -0500 (Thu, 13 Feb 2025) EllapsedTime: 174.1 seconds RetCode: 0 Status: OK PackageFile: decontX_1.5.0.zip PackageFileSize: 1.932 MiB