Package: decontX Version: 1.5.0 Command: chmod a+r decontX -R && E:\biocbuild\bbs-3.21-bioc\R\bin\R.exe CMD build --keep-empty-dirs --no-resave-data decontX StartedAt: 2025-02-09 18:13:06 -0500 (Sun, 09 Feb 2025) EndedAt: 2025-02-09 18:23:45 -0500 (Sun, 09 Feb 2025) EllapsedTime: 638.8 seconds RetCode: 0 Status: OK PackageFile: decontX_1.5.0.tar.gz PackageFileSize: 970.1 KiB