Package: decontX Version: 1.5.0 Command: E:\biocbuild\bbs-3.21-bioc\R\bin\R.exe CMD INSTALL decontX StartedAt: 2025-02-12 16:52:57 -0500 (Wed, 12 Feb 2025) EndedAt: 2025-02-12 16:59:26 -0500 (Wed, 12 Feb 2025) EllapsedTime: 389.5 seconds RetCode: 0 Status: OK