Package: decontam Version: 1.27.0 Command: rm -rf decontam.buildbin-libdir && mkdir decontam.buildbin-libdir && /Users/biocbuild/BBS/utils/build-universal.sh decontam_1.27.0.tar.gz /Library/Frameworks/R.framework/Resources/bin/R decontam.buildbin-libdir StartedAt: 2025-02-09 22:11:41 -0500 (Sun, 09 Feb 2025) EndedAt: 2025-02-09 22:11:44 -0500 (Sun, 09 Feb 2025) EllapsedTime: 3.1 seconds RetCode: 0 Status: OK PackageFile: decontam_1.27.0.tgz PackageFileSize: 760.3 KiB